Package: ClusterJudge Version: 1.33.0 Command: /Library/Frameworks/R.framework/Resources/bin/R CMD build --keep-empty-dirs --no-resave-data ClusterJudge StartedAt: 2025-11-14 15:55:28 -0500 (Fri, 14 Nov 2025) EndedAt: 2025-11-14 15:55:49 -0500 (Fri, 14 Nov 2025) EllapsedTime: 21.2 seconds RetCode: 0 Status: OK PackageFile: ClusterJudge_1.33.0.tar.gz PackageFileSize: 958.6 KiB