Package: ClusterJudge Version: 1.33.0 Command: rm -rf ClusterJudge.buildbin-libdir && mkdir ClusterJudge.buildbin-libdir && /Users/biocbuild/BBS/utils/build-universal.sh ClusterJudge_1.33.0.tar.gz /Library/Frameworks/R.framework/Resources/bin/R ClusterJudge.buildbin-libdir StartedAt: 2025-11-13 23:32:10 -0500 (Thu, 13 Nov 2025) EndedAt: 2025-11-13 23:32:13 -0500 (Thu, 13 Nov 2025) EllapsedTime: 3.1 seconds RetCode: 0 Status: OK PackageFile: ClusterJudge_1.33.0.tgz PackageFileSize: 4.394 MiB