Package: ClusterJudge Version: 1.33.0 Maintainer: Adrian Pasculescu MaintainerEmail: a.pasculescu at gmail.com git_url: https://git.bioconductor.org/packages/ClusterJudge git_branch: devel git_last_commit: b9ce00a git_last_commit_date: 2025-10-29 10:39:27 -0500 (Wed, 29 Oct 2025)