Package: ClusterFoldSimilarity Version: 1.7.0 Command: /home/biocbuild/bbs-3.23-bioc/R/bin/R CMD build --keep-empty-dirs --no-resave-data ClusterFoldSimilarity StartedAt: 2025-11-11 16:54:42 -0500 (Tue, 11 Nov 2025) EndedAt: 2025-11-11 17:02:58 -0500 (Tue, 11 Nov 2025) EllapsedTime: 495.5 seconds RetCode: 0 Status: OK PackageFile: ClusterFoldSimilarity_1.7.0.tar.gz PackageFileSize: 1.569 MiB