Package: ClusterFoldSimilarity Version: 1.7.0 Command: /Library/Frameworks/R.framework/Resources/bin/R CMD INSTALL ClusterFoldSimilarity StartedAt: 2025-11-12 15:26:53 -0500 (Wed, 12 Nov 2025) EndedAt: 2025-11-12 15:27:07 -0500 (Wed, 12 Nov 2025) EllapsedTime: 14.5 seconds RetCode: 0 Status: OK