Package: ClusterFoldSimilarity Version: 1.7.0 Command: /Library/Frameworks/R.framework/Resources/bin/R CMD build --keep-empty-dirs --no-resave-data ClusterFoldSimilarity StartedAt: 2025-11-13 15:58:36 -0500 (Thu, 13 Nov 2025) EndedAt: 2025-11-13 16:02:01 -0500 (Thu, 13 Nov 2025) EllapsedTime: 204.3 seconds RetCode: 0 Status: OK PackageFile: ClusterFoldSimilarity_1.7.0.tar.gz PackageFileSize: 1.678 MiB