Package: ClusterFoldSimilarity Version: 1.7.0 Maintainer: Oscar Gonzalez-Velasco MaintainerEmail: oscargvelasco at gmail.com git_url: https://git.bioconductor.org/packages/ClusterFoldSimilarity git_branch: devel git_last_commit: d5231f7 git_last_commit_date: 2025-10-29 11:26:46 -0500 (Wed, 29 Oct 2025)