Package: ClustIRR Version: 1.9.0 Command: /home/biocbuild/bbs-3.23-bioc/R/bin/R CMD INSTALL ClustIRR StartedAt: 2025-11-13 15:08:42 -0500 (Thu, 13 Nov 2025) EndedAt: 2025-11-13 15:12:04 -0500 (Thu, 13 Nov 2025) EllapsedTime: 201.6 seconds RetCode: 0 Status: OK