Package: ClustIRR Version: 1.9.0 Command: /home/biocbuild/bbs-3.23-bioc/R/bin/R CMD build --keep-empty-dirs --no-resave-data ClustIRR StartedAt: 2025-11-14 16:52:03 -0500 (Fri, 14 Nov 2025) EndedAt: 2025-11-14 16:57:36 -0500 (Fri, 14 Nov 2025) EllapsedTime: 332.3 seconds RetCode: 0 Status: OK PackageFile: ClustIRR_1.9.0.tar.gz PackageFileSize: 3.031 MiB