Package: ClustIRR Version: 1.9.0 Command: /Library/Frameworks/R.framework/Resources/bin/R CMD INSTALL ClustIRR StartedAt: 2025-11-14 15:05:34 -0500 (Fri, 14 Nov 2025) EndedAt: 2025-11-14 15:06:25 -0500 (Fri, 14 Nov 2025) EllapsedTime: 51.0 seconds RetCode: 0 Status: OK