Package: ClustIRR Version: 1.9.0 Command: /Library/Frameworks/R.framework/Resources/bin/R CMD build --keep-empty-dirs --no-resave-data ClustIRR StartedAt: 2025-11-14 15:55:49 -0500 (Fri, 14 Nov 2025) EndedAt: 2025-11-14 15:57:33 -0500 (Fri, 14 Nov 2025) EllapsedTime: 104.2 seconds RetCode: 0 Status: OK PackageFile: ClustIRR_1.9.0.tar.gz PackageFileSize: 2.851 MiB