Package: ClustIRR Version: 1.9.0 Command: rm -rf ClustIRR.buildbin-libdir && mkdir ClustIRR.buildbin-libdir && /Users/biocbuild/BBS/utils/build-universal.sh ClustIRR_1.9.0.tar.gz /Library/Frameworks/R.framework/Resources/bin/R ClustIRR.buildbin-libdir StartedAt: 2025-11-14 23:27:18 -0500 (Fri, 14 Nov 2025) EndedAt: 2025-11-14 23:28:21 -0500 (Fri, 14 Nov 2025) EllapsedTime: 62.6 seconds RetCode: 0 Status: OK PackageFile: ClustIRR_1.9.0.tgz PackageFileSize: 3.788 MiB