Package: ClustAll Version: 1.7.0 Command: /home/biocbuild/bbs-3.23-bioc/R/bin/R CMD INSTALL ClustAll StartedAt: 2025-11-14 16:00:58 -0500 (Fri, 14 Nov 2025) EndedAt: 2025-11-14 16:01:22 -0500 (Fri, 14 Nov 2025) EllapsedTime: 24.4 seconds RetCode: 0 Status: OK