Package: ClustAll Version: 1.7.0 Command: /Library/Frameworks/R.framework/Resources/bin/R CMD build --keep-empty-dirs --no-resave-data ClustAll StartedAt: 2025-11-13 15:58:23 -0500 (Thu, 13 Nov 2025) EndedAt: 2025-11-13 16:00:08 -0500 (Thu, 13 Nov 2025) EllapsedTime: 105.2 seconds RetCode: 0 Status: OK PackageFile: ClustAll_1.7.0.tar.gz PackageFileSize: 2.948 MiB