Package: CluMSID Version: 1.27.0 Command: /Library/Frameworks/R.framework/Resources/bin/R CMD INSTALL CluMSID StartedAt: 2025-11-14 15:24:21 -0500 (Fri, 14 Nov 2025) EndedAt: 2025-11-14 15:24:39 -0500 (Fri, 14 Nov 2025) EllapsedTime: 17.3 seconds RetCode: 0 Status: OK