Package: CluMSID Version: 1.27.0 Command: /Library/Frameworks/R.framework/Resources/bin/R CMD build --keep-empty-dirs --no-resave-data CluMSID StartedAt: 2025-11-16 15:55:35 -0500 (Sun, 16 Nov 2025) EndedAt: 2025-11-16 15:56:04 -0500 (Sun, 16 Nov 2025) EllapsedTime: 29.3 seconds RetCode: 1 Status: ERROR PackageFile: None PackageFileSize: NA