Package: Clomial Version: 1.47.0 Command: /Library/Frameworks/R.framework/Resources/bin/R CMD INSTALL Clomial StartedAt: 2025-11-13 15:02:22 -0500 (Thu, 13 Nov 2025) EndedAt: 2025-11-13 15:02:29 -0500 (Thu, 13 Nov 2025) EllapsedTime: 6.4 seconds RetCode: 0 Status: OK