Package: Clomial Version: 1.47.0 Command: /Library/Frameworks/R.framework/Resources/bin/R CMD build --keep-empty-dirs --no-resave-data Clomial StartedAt: 2025-11-12 16:00:00 -0500 (Wed, 12 Nov 2025) EndedAt: 2025-11-12 16:00:07 -0500 (Wed, 12 Nov 2025) EllapsedTime: 7.1 seconds RetCode: 0 Status: OK PackageFile: Clomial_1.47.0.tar.gz PackageFileSize: 1.461 MiB