Package: Clomial Version: 1.47.0 Command: rm -rf Clomial.buildbin-libdir && mkdir Clomial.buildbin-libdir && /Users/biocbuild/BBS/utils/build-universal.sh Clomial_1.47.0.tar.gz /Library/Frameworks/R.framework/Resources/bin/R Clomial.buildbin-libdir StartedAt: 2025-11-13 23:31:59 -0500 (Thu, 13 Nov 2025) EndedAt: 2025-11-13 23:32:01 -0500 (Thu, 13 Nov 2025) EllapsedTime: 2.0 seconds RetCode: 0 Status: OK PackageFile: Clomial_1.47.0.tgz PackageFileSize: 1.526 MiB