Package: Clomial Version: 1.47.0 Maintainer: Habil Zare MaintainerEmail: zare at u.washington.edu git_url: https://git.bioconductor.org/packages/Clomial git_branch: devel git_last_commit: 0dfe7f2 git_last_commit_date: 2025-10-29 10:18:16 -0500 (Wed, 29 Oct 2025)