Package: CleanUpRNAseq Version: 1.5.0 Command: /home/biocbuild/bbs-3.23-bioc/R/bin/R CMD INSTALL CleanUpRNAseq StartedAt: 2025-11-11 16:04:31 -0500 (Tue, 11 Nov 2025) EndedAt: 2025-11-11 16:05:18 -0500 (Tue, 11 Nov 2025) EllapsedTime: 46.8 seconds RetCode: 0 Status: OK