############################################################################## ############################################################################## ### ### Running command: ### ### /Library/Frameworks/R.framework/Resources/bin/R CMD build --keep-empty-dirs --no-resave-data CleanUpRNAseq ### ############################################################################## ############################################################################## * checking for file ‘CleanUpRNAseq/DESCRIPTION’ ... OK * preparing ‘CleanUpRNAseq’: * checking DESCRIPTION meta-information ... OK * installing the package (it is needed to build vignettes) ----------------------------------- ERROR: dependencies ‘edgeR’, ‘qsmooth’ are not available for package ‘CleanUpRNAseq’ Perhaps try a variation of: install.packages(c('edgeR', 'qsmooth')) * removing ‘/private/var/folders/r0/l4fjk6cj5xj0j3brt4bplpl40000gt/T/RtmpdPoVX4/Rinst9e963b210210/CleanUpRNAseq’ ----------------------------------- ERROR: package installation failed