Package: ClassifyR Version: 3.15.0 Command: /home/biocbuild/bbs-3.23-bioc/R/bin/R CMD INSTALL ClassifyR StartedAt: 2025-11-11 15:31:28 -0500 (Tue, 11 Nov 2025) EndedAt: 2025-11-11 15:32:02 -0500 (Tue, 11 Nov 2025) EllapsedTime: 34.2 seconds RetCode: 0 Status: OK