Package: ClassifyR Version: 3.15.0 Command: /home/biocbuild/bbs-3.23-bioc/R/bin/R CMD check --install=check:ClassifyR.install-out.txt --library=/home/biocbuild/bbs-3.23-bioc/R/site-library --timings ClassifyR_3.15.0.tar.gz StartedAt: 2025-11-11 22:08:05 -0500 (Tue, 11 Nov 2025) EndedAt: 2025-11-11 22:14:30 -0500 (Tue, 11 Nov 2025) EllapsedTime: 385.6 seconds RetCode: 0 Status: OK CheckDir: ClassifyR.Rcheck Warnings: 0