Package: ClassifyR Version: 3.15.0 Command: /Library/Frameworks/R.framework/Resources/bin/R CMD check --install=check:ClassifyR.install-out.txt --library=/Library/Frameworks/R.framework/Resources/library --no-vignettes --timings ClassifyR_3.15.0.tar.gz StartedAt: 2025-11-14 19:02:34 -0500 (Fri, 14 Nov 2025) EndedAt: 2025-11-14 19:04:55 -0500 (Fri, 14 Nov 2025) EllapsedTime: 140.8 seconds RetCode: 0 Status: WARNINGS CheckDir: ClassifyR.Rcheck Warnings: 1