Package: ClassifyR Version: 3.15.0 Command: /Library/Frameworks/R.framework/Resources/bin/R CMD build --keep-empty-dirs --no-resave-data ClassifyR StartedAt: 2025-11-12 15:59:39 -0500 (Wed, 12 Nov 2025) EndedAt: 2025-11-12 16:00:23 -0500 (Wed, 12 Nov 2025) EllapsedTime: 43.5 seconds RetCode: 0 Status: OK PackageFile: ClassifyR_3.15.0.tar.gz PackageFileSize: 2.304 MiB