Package: ClassifyR Version: 3.15.0 Command: rm -rf ClassifyR.buildbin-libdir && mkdir ClassifyR.buildbin-libdir && /Users/biocbuild/BBS/utils/build-universal.sh ClassifyR_3.15.0.tar.gz /Library/Frameworks/R.framework/Resources/bin/R ClassifyR.buildbin-libdir StartedAt: 2025-11-13 23:31:51 -0500 (Thu, 13 Nov 2025) EndedAt: 2025-11-13 23:32:08 -0500 (Thu, 13 Nov 2025) EllapsedTime: 17.3 seconds RetCode: 0 Status: OK PackageFile: ClassifyR_3.15.0.tgz PackageFileSize: 2.543 MiB