Package: CircSeqAlignTk Version: 1.13.0 Command: /home/biocbuild/bbs-3.23-bioc/R/bin/R CMD INSTALL CircSeqAlignTk StartedAt: 2025-11-13 15:53:37 -0500 (Thu, 13 Nov 2025) EndedAt: 2025-11-13 15:54:23 -0500 (Thu, 13 Nov 2025) EllapsedTime: 46.0 seconds RetCode: 0 Status: OK