Package: CircSeqAlignTk Version: 1.13.0 Command: /Library/Frameworks/R.framework/Resources/bin/R CMD build --keep-empty-dirs --no-resave-data CircSeqAlignTk StartedAt: 2025-11-13 15:57:35 -0500 (Thu, 13 Nov 2025) EndedAt: 2025-11-13 15:58:46 -0500 (Thu, 13 Nov 2025) EllapsedTime: 71.8 seconds RetCode: 0 Status: OK PackageFile: CircSeqAlignTk_1.13.0.tar.gz PackageFileSize: 2.085 MiB