Package: Chromatograms Version: 1.1.0 Command: /Library/Frameworks/R.framework/Resources/bin/R CMD INSTALL Chromatograms StartedAt: 2025-11-14 15:08:17 -0500 (Fri, 14 Nov 2025) EndedAt: 2025-11-14 15:08:22 -0500 (Fri, 14 Nov 2025) EllapsedTime: 4.9 seconds RetCode: 0 Status: OK