Package: Chromatograms Version: 1.1.0 Command: /Library/Frameworks/R.framework/Resources/bin/R CMD build --keep-empty-dirs --no-resave-data Chromatograms StartedAt: 2025-11-16 15:54:14 -0500 (Sun, 16 Nov 2025) EndedAt: 2025-11-16 15:54:31 -0500 (Sun, 16 Nov 2025) EllapsedTime: 17.2 seconds RetCode: 0 Status: OK PackageFile: Chromatograms_1.1.0.tar.gz PackageFileSize: 968.6 KiB