Package: ChromSCape Version: 1.21.0 Command: /home/biocbuild/bbs-3.23-bioc/R/bin/R CMD INSTALL ChromSCape StartedAt: 2025-11-13 15:53:57 -0500 (Thu, 13 Nov 2025) EndedAt: 2025-11-13 15:54:50 -0500 (Thu, 13 Nov 2025) EllapsedTime: 53.3 seconds RetCode: 0 Status: OK