Package: ChromSCape Version: 1.21.0 Command: /home/biocbuild/bbs-3.23-bioc/R/bin/R CMD build --keep-empty-dirs --no-resave-data ChromSCape StartedAt: 2025-11-13 16:48:08 -0500 (Thu, 13 Nov 2025) EndedAt: 2025-11-13 16:49:19 -0500 (Thu, 13 Nov 2025) EllapsedTime: 71.1 seconds RetCode: 0 Status: OK PackageFile: ChromSCape_1.21.0.tar.gz PackageFileSize: 5.508 MiB