Package: ChromSCape Version: 1.21.0 Command: /Library/Frameworks/R.framework/Resources/bin/R CMD INSTALL ChromSCape StartedAt: 2025-11-13 15:31:18 -0500 (Thu, 13 Nov 2025) EndedAt: 2025-11-13 15:31:38 -0500 (Thu, 13 Nov 2025) EllapsedTime: 20.5 seconds RetCode: 0 Status: OK