Package: ChromSCape Version: 1.21.0 Command: /Library/Frameworks/R.framework/Resources/bin/R CMD build --keep-empty-dirs --no-resave-data ChromSCape StartedAt: 2025-11-13 15:57:12 -0500 (Thu, 13 Nov 2025) EndedAt: 2025-11-13 15:57:42 -0500 (Thu, 13 Nov 2025) EllapsedTime: 29.4 seconds RetCode: 0 Status: OK PackageFile: ChromSCape_1.21.0.tar.gz PackageFileSize: 5.509 MiB