Package: ChromHeatMap Version: 1.65.0 Command: /home/biocbuild/bbs-3.23-bioc/R/bin/R CMD INSTALL ChromHeatMap StartedAt: 2025-11-13 15:27:26 -0500 (Thu, 13 Nov 2025) EndedAt: 2025-11-13 15:28:02 -0500 (Thu, 13 Nov 2025) EllapsedTime: 36.0 seconds RetCode: 0 Status: OK