Package: ChromHeatMap Version: 1.65.0 Command: /home/biocbuild/bbs-3.23-bioc/R/bin/R CMD build --keep-empty-dirs --no-resave-data ChromHeatMap StartedAt: 2025-11-13 16:47:57 -0500 (Thu, 13 Nov 2025) EndedAt: 2025-11-13 16:48:47 -0500 (Thu, 13 Nov 2025) EllapsedTime: 50.0 seconds RetCode: 0 Status: OK PackageFile: ChromHeatMap_1.65.0.tar.gz PackageFileSize: 318.5 KiB