Package: ChemmineR Version: 3.63.0 Command: /home/biocbuild/bbs-3.23-bioc/R/bin/R CMD INSTALL ChemmineR StartedAt: 2025-11-14 15:12:34 -0500 (Fri, 14 Nov 2025) EndedAt: 2025-11-14 15:12:59 -0500 (Fri, 14 Nov 2025) EllapsedTime: 24.9 seconds RetCode: 0 Status: OK