Package: ChemmineR Version: 3.63.0 Command: /home/biocbuild/bbs-3.23-bioc/R/bin/R CMD build --keep-empty-dirs --no-resave-data ChemmineR StartedAt: 2025-11-14 16:45:37 -0500 (Fri, 14 Nov 2025) EndedAt: 2025-11-14 16:46:30 -0500 (Fri, 14 Nov 2025) EllapsedTime: 53.1 seconds RetCode: 0 Status: OK PackageFile: ChemmineR_3.63.0.tar.gz PackageFileSize: 2.099 MiB