Package: ChemmineR Version: 3.63.0 Command: /Library/Frameworks/R.framework/Resources/bin/R CMD build --keep-empty-dirs --no-resave-data ChemmineR StartedAt: 2025-11-12 15:58:02 -0500 (Wed, 12 Nov 2025) EndedAt: 2025-11-12 15:58:26 -0500 (Wed, 12 Nov 2025) EllapsedTime: 23.3 seconds RetCode: 0 Status: OK PackageFile: ChemmineR_3.63.0.tar.gz PackageFileSize: 2.245 MiB