Package: ChemmineOB Version: 1.49.0 Command: /home/biocbuild/bbs-3.23-bioc/R/bin/R CMD INSTALL ChemmineOB StartedAt: 2025-11-21 15:12:10 -0500 (Fri, 21 Nov 2025) EndedAt: 2025-11-21 15:14:01 -0500 (Fri, 21 Nov 2025) EllapsedTime: 110.2 seconds RetCode: 0 Status: OK