Package: ChemmineOB Version: 1.49.0 Command: /home/biocbuild/bbs-3.23-bioc/R/bin/R CMD build --keep-empty-dirs --no-resave-data ChemmineOB StartedAt: 2025-11-21 16:46:03 -0500 (Fri, 21 Nov 2025) EndedAt: 2025-11-21 16:47:56 -0500 (Fri, 21 Nov 2025) EllapsedTime: 113.1 seconds RetCode: 0 Status: OK PackageFile: ChemmineOB_1.49.0.tar.gz PackageFileSize: 1.302 MiB