Package: ChemmineOB Version: 1.49.0 Command: /Library/Frameworks/R.framework/Resources/bin/R CMD INSTALL ChemmineOB StartedAt: 2025-11-14 15:07:07 -0500 (Fri, 14 Nov 2025) EndedAt: 2025-11-14 15:07:11 -0500 (Fri, 14 Nov 2025) EllapsedTime: 3.7 seconds RetCode: 1 Status: ERROR