Package: ChemmineOB Version: 1.49.0 Command: /Library/Frameworks/R.framework/Resources/bin/R CMD build --keep-empty-dirs --no-resave-data ChemmineOB StartedAt: 2025-11-14 15:52:35 -0500 (Fri, 14 Nov 2025) EndedAt: 2025-11-14 15:52:39 -0500 (Fri, 14 Nov 2025) EllapsedTime: 4.1 seconds RetCode: 1 Status: ERROR PackageFile: None PackageFileSize: NA