Package: ChIPsim Version: 1.65.0 Command: /home/biocbuild/bbs-3.23-bioc/R/bin/R CMD INSTALL ChIPsim StartedAt: 2025-11-13 15:52:13 -0500 (Thu, 13 Nov 2025) EndedAt: 2025-11-13 15:52:42 -0500 (Thu, 13 Nov 2025) EllapsedTime: 28.8 seconds RetCode: 0 Status: OK