Package: ChIPsim Version: 1.65.0 Command: /Library/Frameworks/R.framework/Resources/bin/R CMD build --keep-empty-dirs --no-resave-data ChIPsim StartedAt: 2025-11-13 15:56:47 -0500 (Thu, 13 Nov 2025) EndedAt: 2025-11-13 15:57:12 -0500 (Thu, 13 Nov 2025) EllapsedTime: 25.3 seconds RetCode: 0 Status: OK PackageFile: ChIPsim_1.65.0.tar.gz PackageFileSize: 648.2 KiB