Package: ChIPsim Version: 1.65.0 Maintainer: Peter Humburg MaintainerEmail: Peter.Humburg at gmail.com git_url: https://git.bioconductor.org/packages/ChIPsim git_branch: devel git_last_commit: 5fed093 git_last_commit_date: 2025-10-29 10:03:24 -0500 (Wed, 29 Oct 2025)