Package: ChIPseqR Version: 1.65.0 Command: /Library/Frameworks/R.framework/Resources/bin/R CMD INSTALL ChIPseqR StartedAt: 2025-11-13 15:29:55 -0500 (Thu, 13 Nov 2025) EndedAt: 2025-11-13 15:30:09 -0500 (Thu, 13 Nov 2025) EllapsedTime: 14.9 seconds RetCode: 0 Status: OK