Package: ChIPseqR Version: 1.65.0 Command: /Library/Frameworks/R.framework/Resources/bin/R CMD build --keep-empty-dirs --no-resave-data ChIPseqR StartedAt: 2025-11-13 15:56:45 -0500 (Thu, 13 Nov 2025) EndedAt: 2025-11-13 15:57:16 -0500 (Thu, 13 Nov 2025) EllapsedTime: 31.4 seconds RetCode: 0 Status: OK PackageFile: ChIPseqR_1.65.0.tar.gz PackageFileSize: 729.8 KiB