Package: ChIPseqR Version: 1.65.0 Command: rm -rf ChIPseqR.buildbin-libdir && mkdir ChIPseqR.buildbin-libdir && /Users/biocbuild/BBS/utils/build-universal.sh ChIPseqR_1.65.0.tar.gz /Library/Frameworks/R.framework/Resources/bin/R ChIPseqR.buildbin-libdir StartedAt: 2025-11-13 23:31:31 -0500 (Thu, 13 Nov 2025) EndedAt: 2025-11-13 23:31:50 -0500 (Thu, 13 Nov 2025) EllapsedTime: 18.3 seconds RetCode: 0 Status: OK PackageFile: ChIPseqR_1.65.0.tgz PackageFileSize: 1.518 MiB